BEGIN:VCALENDAR
VERSION:2.0
PRODID:-//Plone.org//NONSGML plone.app.event//EN
X-WR-TIMEZONE:Europe/Brussels
BEGIN:VEVENT
SUMMARY:The Complexity of Social-Cultural Emergence: Biosemiotics\, Semiot
 ics\, and Translation Studies
DTSTART;VALUE=DATE:20210826
DTEND;VALUE=DATE:20210829
DTSTAMP;VALUE=DATE-TIME:20260422T161712Z
UID:061cd4b700354c32a8841c158a2f0f13
CONTACT:Maud Gonne\, maud.gonne@uliege.be\, https://www.ufs.ac.za/conferen
 ces/conference/online-conference-the-complexity-of-social-cultural-emergen
 ce-biosemiotics-semiotics-and-translation-studies
CREATED;VALUE=DATE-TIME:20210817T162137Z
LAST-MODIFIED;VALUE=DATE-TIME:20210817T162835Z
LOCATION:En ligne (Zoom)
URL:https://naltt.unamur.be/agenda/the-complexity-of-social-cultural-emerg
 ence-biosemiotics-semiotics-and-translation-studies
END:VEVENT
END:VCALENDAR
