BEGIN:VCALENDAR
VERSION:2.0
PRODID:-//Plone.org//NONSGML plone.app.event//EN
X-WR-TIMEZONE:Europe/Brussels
BEGIN:VEVENT
SUMMARY:Semaine NALTT - REPORTÉE
DTSTART;VALUE=DATE:20200330
DTEND;VALUE=DATE:20200404
DTSTAMP;VALUE=DATE-TIME:20260422T172738Z
UID:a16808619d674379a93cedd15b4cbac2
ATTENDEE;CN="Comité scientifique de l'institut NaLTT: Jeroen Darquennes, 
 Maud Gonne, Denis Saint-Amand, Luk Van Mensel, David Vrudaghs, Aurélie Si
 nte";ROLE=REQ-PARTICIPANT:Comité scientifique de l'institut NaLTT: Jeroen
  Darquennes, Maud Gonne, Denis Saint-Amand, Luk Van Mensel, David Vrudaghs
 , Aurélie Sinte
CONTACT:Aurélie Sinte\, aurelie.sinte@unamur.be
CREATED;VALUE=DATE-TIME:20191017T102750Z
DESCRIPTION:Durant une semaine\, l'institut NaLTT organise différents col
 loques\, conférences et événements culturels mettant à l'honneur les t
 hématiques de recherche de ses membres.
LAST-MODIFIED;VALUE=DATE-TIME:20200313T103506Z
LOCATION:UNamur
URL:https://naltt.unamur.be/agenda/semaine-naltt
END:VEVENT
END:VCALENDAR
