BEGIN:VCALENDAR
VERSION:2.0
PRODID:-//Plone.org//NONSGML plone.app.event//EN
X-WR-TIMEZONE:Europe/Brussels
BEGIN:VEVENT
SUMMARY:Reviewing viewpoint
DTSTART;VALUE=DATE:20190919
DTEND;VALUE=DATE:20190921
DTSTAMP;VALUE=DATE-TIME:20260422T173225Z
UID:036f06eafa5a4c5d9896ea0c2428afee
CONTACT:Lieven Vandelanotte\, lieven.vandelanotte@unamur.be\, https://view
 point.unamur.be/
CREATED;VALUE=DATE-TIME:20180516T100027Z
DESCRIPTION:Following on from previous editions held in Leiden (November 2
 016) and Nijmegen (April 2018)\, the University of Namur is pleased to hos
 t a third edition in this informal series of brainstorming workshops devot
 ed to viewpoint.
LAST-MODIFIED;VALUE=DATE-TIME:20191206T091220Z
LOCATION:Campus UNamur
URL:https://naltt.unamur.be/agenda/prochain-evenement-naltt
END:VEVENT
END:VCALENDAR
