BEGIN:VCALENDAR
VERSION:2.0
PRODID:-//Plone.org//NONSGML plone.app.event//EN
X-WR-TIMEZONE:Europe/Brussels
BEGIN:VEVENT
SUMMARY:Première rencontre de NaLTT
DTSTART;VALUE=DATE:20190305
DTEND;VALUE=DATE:20190306
DTSTAMP;VALUE=DATE-TIME:20260422T172737Z
UID:dd8f640be99141cb811d0ff0651f4ed8
CONTACT:Jeroen Darquennes
CREATED;VALUE=DATE-TIME:20190508T130033Z
DESCRIPTION:Les recherches au Département des lettres et communications (
 USherbrooke) et au sein de NaLTT
LAST-MODIFIED;VALUE=DATE-TIME:20191206T091222Z
LOCATION:UNamur\, Faculté de Philosophie et Lettres\, rue de Bruxelles 61
 \, salle académique
URL:https://naltt.unamur.be/agenda/premiere-rencontre-de-naltt
END:VEVENT
END:VCALENDAR
