BEGIN:VCALENDAR
VERSION:2.0
PRODID:-//Plone.org//NONSGML plone.app.event//EN
X-WR-TIMEZONE:Europe/Brussels
BEGIN:VEVENT
SUMMARY:Nos cousins wallons d’Amérique - REPORTÉ
DTSTART;TZID=Europe/Brussels;VALUE=DATE-TIME:20200330T180000
DTEND;TZID=Europe/Brussels;VALUE=DATE-TIME:20200330T200000
DTSTAMP;VALUE=DATE-TIME:20260422T172758Z
UID:462ca0adbeaa408fa68237860baeb783
CONTACT:Jean-Benoit Gabriel\, Jeroen Darquennes et Maud Gonne\, jean-benoi
 t.gabriel@unamur.be
CREATED;VALUE=DATE-TIME:20191219T093713Z
DESCRIPTION:Dans le cadre de la semaine NaLTT: projection du documentaire 
 "Namur Wisconsin" et rencontre
LAST-MODIFIED;VALUE=DATE-TIME:20200313T103622Z
LOCATION:Auditoire Pedro Arrupe 02
URL:https://naltt.unamur.be/agenda/nos-cousins-wallons-d2019amerique
END:VEVENT
BEGIN:VTIMEZONE
TZID:Europe/Brussels
X-LIC-LOCATION:Europe/Brussels
BEGIN:DAYLIGHT
DTSTART;VALUE=DATE-TIME:20200329T030000
TZNAME:CEST
TZOFFSETFROM:+0100
TZOFFSETTO:+0200
END:DAYLIGHT
END:VTIMEZONE
END:VCALENDAR
