BEGIN:VCALENDAR
VERSION:2.0
PRODID:-//Plone.org//NONSGML plone.app.event//EN
X-WR-TIMEZONE:Europe/Brussels
BEGIN:VEVENT
SUMMARY:Livre et jeu vidéo. Croisements et négociations
DTSTART;TZID=Europe/Brussels;VALUE=DATE-TIME:20191129T140000
DTEND;TZID=Europe/Brussels;VALUE=DATE-TIME:20191129T160000
DTSTAMP;VALUE=DATE-TIME:20260422T174711Z
UID:addb987bd3e64513a685d283eebe7bde
CONTACT:Valérie Leyh\, Valerie.Leyh@unamur.be
CREATED;VALUE=DATE-TIME:20191113T085822Z
DESCRIPTION:Conférence de Björn-Olav Dozo (ULiège) et Bruno Dupont (ULi
 ège / HEL) dans le cadre du cours "Le livre et la culture numérique"
LAST-MODIFIED;VALUE=DATE-TIME:20200218T091708Z
LOCATION:Faculté de Philosophie et Lettres - auditoire L32
URL:https://naltt.unamur.be/agenda/livre-et-jeu-video-croisements-et-negoc
 iation
END:VEVENT
BEGIN:VTIMEZONE
TZID:Europe/Brussels
X-LIC-LOCATION:Europe/Brussels
BEGIN:STANDARD
DTSTART;VALUE=DATE-TIME:20191027T020000
TZNAME:CET
TZOFFSETFROM:+0200
TZOFFSETTO:+0100
END:STANDARD
END:VTIMEZONE
END:VCALENDAR
