BEGIN:VCALENDAR
VERSION:2.0
PRODID:-//Plone.org//NONSGML plone.app.event//EN
X-WR-TIMEZONE:Europe/Brussels
BEGIN:VEVENT
SUMMARY:L'histoire sociale des langues pluricentriques en zone de contact 
 linguistique - REPORTÉ
DTSTART;TZID=Europe/Brussels;VALUE=DATE-TIME:20200402T084500
DTEND;TZID=Europe/Brussels;VALUE=DATE-TIME:20200402T160000
DTSTAMP;VALUE=DATE-TIME:20260422T172913Z
UID:8bb78f04a7e04be39b1a650c106a3142
CONTACT:Jeroen Darquennes\, Jeromine François\, Laurence Mettewie\, jeroe
 n.darquennes@unamur.be
CREATED;VALUE=DATE-TIME:20200205T125717Z
DESCRIPTION:Dans le cadre de la semaine NaLTT: colloque international (The
  social history of pluricentric languages in language contact zones)
LAST-MODIFIED;VALUE=DATE-TIME:20200313T104134Z
LOCATION:Business & Learning Center (Room 03)\, Rue Godefroid 5/7
URL:https://naltt.unamur.be/agenda/lhistoire-sociale-des-langues-pluricent
 riques-en-zone-de-contact-linguistique-the-social-history-of-pluricentric-
 languages-in-language-contact-zones
END:VEVENT
BEGIN:VTIMEZONE
TZID:Europe/Brussels
X-LIC-LOCATION:Europe/Brussels
BEGIN:DAYLIGHT
DTSTART;VALUE=DATE-TIME:20200329T030000
TZNAME:CEST
TZOFFSETFROM:+0100
TZOFFSETTO:+0200
END:DAYLIGHT
END:VTIMEZONE
END:VCALENDAR
