BEGIN:VCALENDAR
VERSION:2.0
PRODID:-//Plone.org//NONSGML plone.app.event//EN
X-WR-TIMEZONE:Europe/Brussels
BEGIN:VEVENT
SUMMARY:Les transferts culturels : paradoxes et malentendus
DTSTART;VALUE=DATE:20190522
DTEND;VALUE=DATE:20190525
DTSTAMP;VALUE=DATE-TIME:20260422T174644Z
UID:c82a3ff436544863a612e4c7a09aeb80
CONTACT:Maud Gonne\, https://uclouvain.be/fr/instituts-recherche/incal/ecr
 /evenements/transferts-culturels.html
CREATED;VALUE=DATE-TIME:20190508T104209Z
LAST-MODIFIED;VALUE=DATE-TIME:20191206T091221Z
LOCATION:Louvain-la-neuve
URL:https://naltt.unamur.be/agenda/les-transferts-culturels-paradoxes-et-m
 alentendus-1
END:VEVENT
END:VCALENDAR
