BEGIN:VCALENDAR
VERSION:2.0
PRODID:-//Plone.org//NONSGML plone.app.event//EN
X-WR-TIMEZONE:Europe/Brussels
BEGIN:VEVENT
SUMMARY:Language diversity management in higher education
DTSTART;VALUE=DATE:20181129
DTEND;VALUE=DATE:20181130
DTSTAMP;VALUE=DATE-TIME:20260422T174337Z
UID:a73f00e34ec54e7cb790d0a9b030db4d
CONTACT:Jeroen Darquennes
CREATED;VALUE=DATE-TIME:20190508T131139Z
DESCRIPTION:Symposium
LAST-MODIFIED;VALUE=DATE-TIME:20191206T091222Z
LOCATION:UNamur Business & Learning Center (Room 03)\, Rue Godefroid 5/7\,
  B-5000 Namur
URL:https://naltt.unamur.be/agenda/language-diversity-management-in-higher
 -education
END:VEVENT
END:VCALENDAR
