BEGIN:VCALENDAR
VERSION:2.0
PRODID:-//Plone.org//NONSGML plone.app.event//EN
X-WR-TIMEZONE:Europe/Brussels
BEGIN:VEVENT
SUMMARY:Language diversity management in higher education - part 2
DTSTART;VALUE=DATE:20191128
DTEND;VALUE=DATE:20191129
DTSTAMP;VALUE=DATE-TIME:20260422T180516Z
UID:b9a27e1a907e4931a039874816f4be93
CONTACT:Jeroen Darquennes\, jeroen.darquennes@unamur.be
CREATED;VALUE=DATE-TIME:20191017T102948Z
LAST-MODIFIED;VALUE=DATE-TIME:20191206T091226Z
URL:https://naltt.unamur.be/agenda/language-diversity-management-in-higher
 -education-part-2
END:VEVENT
END:VCALENDAR
