BEGIN:VCALENDAR
VERSION:2.0
PRODID:-//Plone.org//NONSGML plone.app.event//EN
X-WR-TIMEZONE:Europe/Brussels
BEGIN:VEVENT
SUMMARY:La matière épique dans l'Europe romane au Moyen Âge. Persistanc
 es et trajectoires
DTSTART;VALUE=DATE:20190513
DTEND;VALUE=DATE:20190514
DTSTAMP;VALUE=DATE-TIME:20260422T174656Z
UID:4ebeb2d8b21547c380c75e8c6bbeaf8e
CONTACT:Anna Constantinidis et Cesare Mascitelli\, anna.constantinidis@una
 mur.be
CREATED;VALUE=DATE-TIME:20190508T104842Z
LAST-MODIFIED;VALUE=DATE-TIME:20191206T091221Z
LOCATION:UNamur\, Faculté de Philosophie et Lettres\, rue de Bruxelles 61
 \, auditoire L33
URL:https://naltt.unamur.be/agenda/la-matiere-epique-dans-leurope-romane-a
 u-moyen-age
END:VEVENT
END:VCALENDAR
