BEGIN:VCALENDAR
VERSION:2.0
PRODID:-//Plone.org//NONSGML plone.app.event//EN
X-WR-TIMEZONE:Europe/Brussels
BEGIN:VEVENT
SUMMARY:La bibliographie mexicaine et l'histoire culturelle du Mexique (XV
 IIIE-XXE siècles)
DTSTART;TZID=Europe/Brussels;VALUE=DATE-TIME:20191021T140000
DTEND;TZID=Europe/Brussels;VALUE=DATE-TIME:20191021T150000
DTSTAMP;VALUE=DATE-TIME:20260422T172913Z
UID:b14819e3da994804a302c2d416be7136
CONTACT:Jéromine François\, jeromine.francois@unamur.be
CREATED;VALUE=DATE-TIME:20191017T101656Z
LAST-MODIFIED;VALUE=DATE-TIME:20191206T091225Z
LOCATION:UNamur\, rue de Bruxelles 61\, 5000 Namur (auditoire L32)
URL:https://naltt.unamur.be/agenda/la-bibliographie-mexicaine-et-lhistoire
 -culturelle-du-mexique-xviiie-xxe-siecles-1
END:VEVENT
BEGIN:VTIMEZONE
TZID:Europe/Brussels
X-LIC-LOCATION:Europe/Brussels
BEGIN:DAYLIGHT
DTSTART;VALUE=DATE-TIME:20190331T030000
TZNAME:CEST
TZOFFSETFROM:+0100
TZOFFSETTO:+0200
END:DAYLIGHT
END:VTIMEZONE
END:VCALENDAR
