BEGIN:VCALENDAR
VERSION:2.0
PRODID:-//Plone.org//NONSGML plone.app.event//EN
X-WR-TIMEZONE:Europe/Brussels
BEGIN:VEVENT
SUMMARY:Journée du Cercle belge de linguistique
DTSTART;VALUE=DATE:20201016
DTEND;VALUE=DATE:20201017
DTSTAMP;VALUE=DATE-TIME:20260422T173232Z
UID:c5490d538beb4f2fbfae6e06a686885a
CONTACT:Courriel CBL UN 2020\, journee-linguistique-cbl@unamur.be\, http:/
 /www.bkl-cbl.be/
CREATED;VALUE=DATE-TIME:20200312T133218Z
LAST-MODIFIED;VALUE=DATE-TIME:20201006T132434Z
LOCATION:UNamur\, rue de Bruxelles 61\, 5000 Namur
URL:https://naltt.unamur.be/agenda/journee-linguistique-du-cercle-belge-de
 -linguistique
END:VEVENT
END:VCALENDAR
