BEGIN:VCALENDAR
VERSION:2.0
PRODID:-//Plone.org//NONSGML plone.app.event//EN
X-WR-TIMEZONE:Europe/Brussels
BEGIN:VEVENT
SUMMARY:Jeunes chercheurs (session 2/2) - REPORTÉ
DTSTART;TZID=Europe/Brussels;VALUE=DATE-TIME:20200403T120000
DTEND;TZID=Europe/Brussels;VALUE=DATE-TIME:20200403T140000
DTSTAMP;VALUE=DATE-TIME:20260422T172450Z
UID:45db3d86bf084c8297d0c7c9c20aaf1b
CONTACT:Laurence Mettewie\, laurence.mettewie@unamur.be
CREATED;VALUE=DATE-TIME:20200205T124938Z
DESCRIPTION:Dans le cadre de la semaine NaLTT: session posters des doctora
 nts et des anciens étudiants des départements de langues et littérature
 s germaniques et romanes
LAST-MODIFIED;VALUE=DATE-TIME:20200313T104520Z
LOCATION:(Information à venir)
URL:https://naltt.unamur.be/agenda/jeunes-chercheurs-session-2-2
END:VEVENT
BEGIN:VTIMEZONE
TZID:Europe/Brussels
X-LIC-LOCATION:Europe/Brussels
BEGIN:DAYLIGHT
DTSTART;VALUE=DATE-TIME:20200329T030000
TZNAME:CEST
TZOFFSETFROM:+0100
TZOFFSETTO:+0200
END:DAYLIGHT
END:VTIMEZONE
END:VCALENDAR
