BEGIN:VCALENDAR
VERSION:2.0
PRODID:-//Plone.org//NONSGML plone.app.event//EN
X-WR-TIMEZONE:Europe/Brussels
BEGIN:VEVENT
SUMMARY:Films sans images de la littérature contemporaine française - RE
 PORTÉ
DTSTART;TZID=Europe/Brussels;VALUE=DATE-TIME:20200331T180000
DTEND;TZID=Europe/Brussels;VALUE=DATE-TIME:20200331T193000
DTSTAMP;VALUE=DATE-TIME:20260422T172914Z
UID:e3d1f8720c16433e9edceeefdbe29636
CONTACT:Jean-Benoit Gabriel\, jean-benoit.gabriel@unamur.be
CREATED;VALUE=DATE-TIME:20191219T094129Z
DESCRIPTION:Dans le cadre de la semaine NaLTT: conférence de Fabien Gris 
 (Paris-Sorbonne)
LAST-MODIFIED;VALUE=DATE-TIME:20200313T103720Z
LOCATION:Faculté de Philosophie et Lettres - auditoire L22
URL:https://naltt.unamur.be/agenda/films-sans-images-de-la-litterature-con
 temporaine-francaise
END:VEVENT
BEGIN:VTIMEZONE
TZID:Europe/Brussels
X-LIC-LOCATION:Europe/Brussels
BEGIN:DAYLIGHT
DTSTART;VALUE=DATE-TIME:20200329T030000
TZNAME:CEST
TZOFFSETFROM:+0100
TZOFFSETTO:+0200
END:DAYLIGHT
END:VTIMEZONE
END:VCALENDAR
