BEGIN:VCALENDAR
VERSION:2.0
PRODID:-//Plone.org//NONSGML plone.app.event//EN
X-WR-TIMEZONE:Europe/Brussels
BEGIN:VEVENT
SUMMARY:Fameux ou infâmes? Bonnes et mauvaises réputations aux/des Temps
  Modernes
DTSTART;VALUE=DATE:20210423
DTEND;VALUE=DATE:20210424
DTSTAMP;VALUE=DATE-TIME:20260422T154645Z
UID:41e1bfa9ebd344e7aaaeb775e030fc47
CONTACT:Valérie Leyh\, Valerie.Leyh@unamur.be\, https://modernum.hypothes
 es.org/journees-detude-de-modernum/24-04-2020-fameux-ou-infame-bonnes-et-m
 auvaises-reputations-aux-des-temps-modernes
CREATED;VALUE=DATE-TIME:20200619T070620Z
DESCRIPTION:Journée d'études organisée par le groupe de contact ModerNu
 m
LAST-MODIFIED;VALUE=DATE-TIME:20200622T083026Z
LOCATION:Bruxelles\, KBR
URL:https://naltt.unamur.be/agenda/fameux-ou-infames-bonnes-et-mauvaises-r
 eputations-aux-des-temps-modernes
END:VEVENT
END:VCALENDAR
