BEGIN:VCALENDAR
VERSION:2.0
PRODID:-//Plone.org//NONSGML plone.app.event//EN
X-WR-TIMEZONE:Europe/Brussels
BEGIN:VEVENT
SUMMARY:Encuentros poéticos en español (séance 1/2) - REPORTÉ
DTSTART;TZID=Europe/Brussels;VALUE=DATE-TIME:20200331T104000
DTEND;TZID=Europe/Brussels;VALUE=DATE-TIME:20200331T124000
DTSTAMP;VALUE=DATE-TIME:20260422T174658Z
UID:1fbe90a58de3465eaf458cc949b01cc6
CONTACT:Jéromine François et Lidia Morales\, jeromine.francois@unamur.be
CREATED;VALUE=DATE-TIME:20200205T102529Z
DESCRIPTION:Dans le cadre de la semaine NaLTT: rencontre poétique avec Ra
 úl Vacas
LAST-MODIFIED;VALUE=DATE-TIME:20200313T103647Z
LOCATION:Faculté de Philosophie et Lettres - auditoire L24
URL:https://naltt.unamur.be/agenda/encuentros-poeticos-en-espanol-seance-2
 -2
END:VEVENT
BEGIN:VTIMEZONE
TZID:Europe/Brussels
X-LIC-LOCATION:Europe/Brussels
BEGIN:DAYLIGHT
DTSTART;VALUE=DATE-TIME:20200329T030000
TZNAME:CEST
TZOFFSETFROM:+0100
TZOFFSETTO:+0200
END:DAYLIGHT
END:VTIMEZONE
END:VCALENDAR
