BEGIN:VCALENDAR
VERSION:2.0
PRODID:-//Plone.org//NONSGML plone.app.event//EN
X-WR-TIMEZONE:Europe/Brussels
BEGIN:VEVENT
SUMMARY:Encuentros poéticos en español (séance 2/2) - REPORTÉ
DTSTART;TZID=Europe/Brussels;VALUE=DATE-TIME:20200402T160000
DTEND;TZID=Europe/Brussels;VALUE=DATE-TIME:20200402T180000
DTSTAMP;VALUE=DATE-TIME:20260422T174657Z
UID:541b038d85884f9fb238a59b9bf8b02d
CONTACT:Jéromine François et Lidia Morales\, jeromine.francois@unamur.be
CREATED;VALUE=DATE-TIME:20200205T102132Z
DESCRIPTION:Dans le cadre de la semaine NaLTT: rencontre poétique en espa
 gnol avec Maribel Andrés Llamero
LAST-MODIFIED;VALUE=DATE-TIME:20200313T104410Z
LOCATION:Faculté de Philosophie et Lettres - auditoire L24
URL:https://naltt.unamur.be/agenda/encuentros-poeticos-en-espanol-seance-1
 -2
END:VEVENT
BEGIN:VTIMEZONE
TZID:Europe/Brussels
X-LIC-LOCATION:Europe/Brussels
BEGIN:DAYLIGHT
DTSTART;VALUE=DATE-TIME:20200329T030000
TZNAME:CEST
TZOFFSETFROM:+0100
TZOFFSETTO:+0200
END:DAYLIGHT
END:VTIMEZONE
END:VCALENDAR
