BEGIN:VCALENDAR
VERSION:2.0
PRODID:-//Plone.org//NONSGML plone.app.event//EN
X-WR-TIMEZONE:Europe/Brussels
BEGIN:VEVENT
SUMMARY:Écrire la bohème
DTSTART;TZID=Europe/Brussels;VALUE=DATE-TIME:20200206T090000
DTEND;TZID=Europe/Brussels;VALUE=DATE-TIME:20200206T103000
DTSTAMP;VALUE=DATE-TIME:20260422T173319Z
UID:2ab8017db8f74e609c0ba70509080c13
CONTACT:Denis Saint-Amand\, denis.saint-amand@unamur.be
CREATED;VALUE=DATE-TIME:20191219T093112Z
DESCRIPTION:Conférence d’Anthony Glinoer (Université de Sherbrooke)
LAST-MODIFIED;VALUE=DATE-TIME:20191219T093756Z
LOCATION:Faculté de Philosophie et Lettres - auditoire L22
URL:https://naltt.unamur.be/agenda/ecrire-la-boheme
END:VEVENT
BEGIN:VTIMEZONE
TZID:Europe/Brussels
X-LIC-LOCATION:Europe/Brussels
BEGIN:STANDARD
DTSTART;VALUE=DATE-TIME:20191027T020000
TZNAME:CET
TZOFFSETFROM:+0200
TZOFFSETTO:+0100
END:STANDARD
END:VTIMEZONE
END:VCALENDAR
