BEGIN:VCALENDAR
VERSION:2.0
PRODID:-//Plone.org//NONSGML plone.app.event//EN
X-WR-TIMEZONE:Europe/Brussels
BEGIN:VEVENT
SUMMARY:Deuxième rencontre de NaLTT
DTSTART;TZID=Europe/Brussels;VALUE=DATE-TIME:20190326T124500
DTEND;TZID=Europe/Brussels;VALUE=DATE-TIME:20190326T140500
DTSTAMP;VALUE=DATE-TIME:20260422T172757Z
UID:6951c0d71c05411ab3661dbab4ea9bdd
CONTACT:Laurence Meurant\, laurence.meurant@unamur.be
CREATED;VALUE=DATE-TIME:20190508T125814Z
DESCRIPTION:Les recherches au département de Traduction et linguistique d
 e l'Université de Vigo et au sein de NaLTT - présentations réciproques
LAST-MODIFIED;VALUE=DATE-TIME:20191206T091222Z
LOCATION:UNamur\, Faculté de Philosophie et Lettres\, rue de Bruxelles 61
 \, salle académique
URL:https://naltt.unamur.be/agenda/deuxieme-rencontre-de-naltt
END:VEVENT
BEGIN:VTIMEZONE
TZID:Europe/Brussels
X-LIC-LOCATION:Europe/Brussels
BEGIN:STANDARD
DTSTART;VALUE=DATE-TIME:20181028T020000
TZNAME:CET
TZOFFSETFROM:+0200
TZOFFSETTO:+0100
END:STANDARD
END:VTIMEZONE
END:VCALENDAR
