BEGIN:VCALENDAR
VERSION:2.0
PRODID:-//Plone.org//NONSGML plone.app.event//EN
X-WR-TIMEZONE:Europe/Brussels
BEGIN:VEVENT
SUMMARY:Cycle de conférences - duo-conférence
DTSTART;TZID=Europe/Brussels;VALUE=DATE-TIME:20191202T170000
DTEND;TZID=Europe/Brussels;VALUE=DATE-TIME:20191202T183000
DTSTAMP;VALUE=DATE-TIME:20260422T174321Z
UID:d70f05b8e147424980c0e8e90bbf7075
CONTACT:Jeroen Darquennes\, jeroen.darquennes@unamur.be
CREATED;VALUE=DATE-TIME:20191017T103224Z
LAST-MODIFIED;VALUE=DATE-TIME:20191206T091226Z
LOCATION:Faculté de Philosophie et Lettres - auditoire L33
URL:https://naltt.unamur.be/agenda/cycle-de-conferences-duo-conference
END:VEVENT
BEGIN:VTIMEZONE
TZID:Europe/Brussels
X-LIC-LOCATION:Europe/Brussels
BEGIN:STANDARD
DTSTART;VALUE=DATE-TIME:20191027T020000
TZNAME:CET
TZOFFSETFROM:+0200
TZOFFSETTO:+0100
END:STANDARD
END:VTIMEZONE
END:VCALENDAR
