BEGIN:VCALENDAR
VERSION:2.0
PRODID:-//Plone.org//NONSGML plone.app.event//EN
X-WR-TIMEZONE:Europe/Brussels
BEGIN:VEVENT
SUMMARY:Fictions morales à la fin du XVIIIe siècle: traduction\, diffusi
 on\, réception à l'échelle européenne
DTSTART;VALUE=DATE:20201021
DTEND;VALUE=DATE:20201024
DTSTAMP;VALUE=DATE-TIME:20260422T172107Z
UID:122098722a8e43e0a3eb950694c2dc7d
CONTACT:Valérie Leyh\, Valerie.Leyh@unamur.be\, http://naltt.unamur.be/fi
 ctions-morales/fr
CREATED;VALUE=DATE-TIME:20200127T122617Z
DESCRIPTION:Moralische Erzählungen im späten 18. Jahrhundert. Übersetzu
 ng\, Verbreitung\, europäische Rezeption
LAST-MODIFIED;VALUE=DATE-TIME:20201001T105751Z
LOCATION:En ligne
URL:https://naltt.unamur.be/agenda/colloque
END:VEVENT
END:VCALENDAR
