BEGIN:VCALENDAR
VERSION:2.0
PRODID:-//Plone.org//NONSGML plone.app.event//EN
X-WR-TIMEZONE:Europe/Brussels
BEGIN:VEVENT
SUMMARY:Collectivité littéraire et support - REPORTÉ
DTSTART;TZID=Europe/Brussels;VALUE=DATE-TIME:20200330T090000
DTEND;TZID=Europe/Brussels;VALUE=DATE-TIME:20200330T160000
DTSTAMP;VALUE=DATE-TIME:20260422T180424Z
UID:0550472ce8e945a387836e6d3d765e21
CONTACT:Valérie Leyh\, David Vrydaghs\, Denis Saint-Amand\, Valerie.Leyh@
 unamur.be
CREATED;VALUE=DATE-TIME:20200205T095958Z
DESCRIPTION:Dans le cadre de la semaine NaLTT: journée d'études
LAST-MODIFIED;VALUE=DATE-TIME:20200313T103553Z
LOCATION:Faculté de Philosophie et Lettres - auditoire L32
URL:https://naltt.unamur.be/agenda/collectivite-litteraire-et-support
END:VEVENT
BEGIN:VTIMEZONE
TZID:Europe/Brussels
X-LIC-LOCATION:Europe/Brussels
BEGIN:DAYLIGHT
DTSTART;VALUE=DATE-TIME:20200329T030000
TZNAME:CEST
TZOFFSETFROM:+0100
TZOFFSETTO:+0200
END:DAYLIGHT
END:VTIMEZONE
END:VCALENDAR
